BEGIN:VCALENDAR
VERSION:2.0
PRODID:-//wp-events-plugin.com//7.2.3.1//EN
TZID:America/New_York
X-WR-TIMEZONE:America/New_York
BEGIN:VEVENT
UID:651@cfsny.org
DTSTART;TZID=America/New_York:20231114T123000
DTEND;TZID=America/New_York:20231114T134500
DTSTAMP:20231113T160524Z
URL:https://www.cfsny.org/events/supported-decision-making-webinar/
SUMMARY:Supported Decision-Making Webinar
DESCRIPTION:Supported Decision-Making New York (SDMNY) began as a pilot in 
 2016 to build capacity for SDM as an alternative to guardianship for peopl
 e with I/DD. The project developed a successful 3-phase facilitation proce
 ss that engaged more than 100 Decision-Makers to create their own SDM Agre
 ements and created an evidentiary base for SDM Agreement legislation which
  passed and was signed in July 2022.\n\nCurrently\, SDMNY is operating und
 er a 3-year contract with OPWDD to develop a statewide service delivery in
 frastructure\, with the NY Alliance as a continuing collaborator.\n\nThis 
 webinar will provide an overview of SDM as a legal and less restrictive al
 ternative to guardianship\, information about the SDMNY project goals and 
 implementation\, and how agencies can become partners in the initiative an
 d/or connect individuals with disabilities to the SDMNY Facilitation proce
 ss.\n\nPresenters:\n\nNaomi Brickel\, Director\, SDMNY\nJennifer Ivery\, S
 r. Director of Communications &amp\; Project Management\, NY Alliance &amp
 \; Senior Mentor\, SDMNY\nAnn Hardiman\, Chief Innovation Officer\, NY All
 iance
ATTACH;FMTTYPE=image/jpeg:https://www.cfsny.org/wp-content/uploads/2023/06
 /CFS_Event_thumbnail_SDMNY.jpg
CATEGORIES:Webinar
LOCATION:https://us06web.zoom.us/meeting/register/tZ0kd-murDkvEta1j_fSPw-Bk
 9NkHUyeySjw#/registration
END:VEVENT
BEGIN:VTIMEZONE
TZID:America/New_York
X-LIC-LOCATION:America/New_York
BEGIN:STANDARD
DTSTART:20231105T010000
TZOFFSETFROM:-0400
TZOFFSETTO:-0500
TZNAME:EST
END:STANDARD
END:VTIMEZONE
END:VCALENDAR