BEGIN:VCALENDAR
VERSION:2.0
PRODID:-//wp-events-plugin.com//7.2.3.1//EN
TZID:America/New_York
X-WR-TIMEZONE:America/New_York
BEGIN:VEVENT
UID:448@cfsny.org
DTSTART;TZID=America/New_York:20230716T120000
DTEND;TZID=America/New_York:20230716T160000
DTSTAMP:20230627T201041Z
URL:https://www.cfsny.org/events/nyc-disability-unite-festival/
SUMMARY:NYC Disability Unite Festival
DESCRIPTION:Celebrate Disability Pride Month with us at the 2023 Disability
  Unite Festival at NYC’s Central Park’s Naumburg Bandshell!\n\nThis ye
 ar’s festivities commemorate the 33rd anniversary of The Americans with 
 Disabilities Act (ADA)\, and will include resource booths from dozens of o
 rganizations\, on-stage performances\, arts and crafts\, and other enterta
 ining activities!\n\nIf you can’t make it in person\, you can join the f
 un virtually via disabilityunite.org’s website.\n\nWhen: Sunday\, July 1
 6th\, 2023\nTime: 12pm-4pm\nLocation: Central Park’s Naumburg Bandshell 
 (at E. 72nd St.&amp\; 5th Ave. or W. 72nd St. &amp\; Central Park West)\n\
 nLearn more and sign up here: https://disabilityunite.org/
ATTACH;FMTTYPE=image/jpeg:https://www.cfsny.org/wp-content/uploads/2023/06
 /CFS-EVENT-FEATURED-IMAGE-1.png
CATEGORIES:Disability Pride
LOCATION:Central Park’s Naumburg Bandshell\, Terrace Dr.\, New York\, New
  York\, 10019\, United States
X-APPLE-STRUCTURED-LOCATION;VALUE=URI;X-ADDRESS=Terrace Dr.\, New York\, Ne
 w York\, 10019\, United States;X-APPLE-RADIUS=100;X-TITLE=Central Park’s
  Naumburg Bandshell:geo:0,0
END:VEVENT
BEGIN:VTIMEZONE
TZID:America/New_York
X-LIC-LOCATION:America/New_York
BEGIN:DAYLIGHT
DTSTART:20230312T030000
TZOFFSETFROM:-0500
TZOFFSETTO:-0400
TZNAME:EDT
END:DAYLIGHT
END:VTIMEZONE
END:VCALENDAR