BEGIN:VCALENDAR
VERSION:2.0
PRODID:-//wp-events-plugin.com//7.2.3.1//EN
TZID:America/New_York
X-WR-TIMEZONE:America/New_York
BEGIN:VEVENT
UID:1052@cfsny.org
DTSTART;TZID=America/New_York:20240723T093000
DTEND;TZID=America/New_York:20240723T150000
DTSTAMP:20240701T210719Z
URL:https://www.cfsny.org/events/ny-annual-refresher-in-office-support-4/
SUMMARY:NY Annual Refresher in office support
DESCRIPTION:NY Annual Refresher in office support\n\nMain office . Last app
 ointment at 3PM\n\nSee link below:\n\nhttps://forms.office.com/Pages/Respo
 nsePage.aspx?id=gOG5xtcZw0650IqMguWA_YlJeLs7aM5GhVTIo5eSsLBUQTBFSUhMN1ZTOE
 o5M0RKTERXRFVHN1FXMi4u\n\n\n\n\nFacebookTwitterLinkedIn\n
CATEGORIES:Training
LOCATION:Manhattan Office\, 333 7th Ave\, 9th Floor\, New York\, NY\, 10001
 \, United States
X-APPLE-STRUCTURED-LOCATION;VALUE=URI;X-ADDRESS=333 7th Ave\, 9th Floor\, N
 ew York\, NY\, 10001\, United States;X-APPLE-RADIUS=100;X-TITLE=Manhattan 
 Office:geo:0,0
END:VEVENT
BEGIN:VTIMEZONE
TZID:America/New_York
X-LIC-LOCATION:America/New_York
BEGIN:DAYLIGHT
DTSTART:20240310T030000
TZOFFSETFROM:-0500
TZOFFSETTO:-0400
TZNAME:EDT
END:DAYLIGHT
END:VTIMEZONE
END:VCALENDAR