BEGIN:VCALENDAR
VERSION:2.0
PRODID:-//wp-events-plugin.com//7.2.3.1//EN
TZID:America/New_York
X-WR-TIMEZONE:America/New_York
BEGIN:VEVENT
UID:898@cfsny.org
DTSTART;TZID=America/New_York:20240622T123000
DTEND;TZID=America/New_York:20240622T160000
DTSTAMP:20240620T175255Z
URL:https://www.cfsny.org/events/deib-emotional-intelligence-workshop-for-
 dsps-14/
SUMMARY:DEIB-Emotional Intelligence Workshop for DSP's
DESCRIPTION:NY Offsite 20th floor\,\n\nDSP Emotional Intelligence (EQ)\, Cu
 ltural Intelligence (CQ) \n\n(3) Hour Workshop Will Focus On: Developing 
 the skills to ensure our DSP's  are highly effective\, emotionally intell
 igent employees. Emotional intelligence (EI) is an essential aspect of the
  caregiver’s role. This workshop will equip our frontline workers with t
 ools and techniques to deepen their self-awareness\, accountability\, and 
 person-centered perspective and transform them from good employees to grea
 t employees. 
CATEGORIES:Training
LOCATION:CFS Manhattan Conference Room\, 333 7th Ave\, 9th Floor\, New York
 \, NY\, 10001\, United States
X-APPLE-STRUCTURED-LOCATION;VALUE=URI;X-ADDRESS=333 7th Ave\, 9th Floor\, N
 ew York\, NY\, 10001\, United States;X-APPLE-RADIUS=100;X-TITLE=CFS Manhat
 tan Conference Room:geo:0,0
END:VEVENT
BEGIN:VTIMEZONE
TZID:America/New_York
X-LIC-LOCATION:America/New_York
BEGIN:DAYLIGHT
DTSTART:20240310T030000
TZOFFSETFROM:-0500
TZOFFSETTO:-0400
TZNAME:EDT
END:DAYLIGHT
END:VTIMEZONE
END:VCALENDAR